BEGIN:VCALENDAR
VERSION:2.0
PRODID:-//Jesús Nazareno - ECPv6.1.3//NONSGML v1.0//EN
CALSCALE:GREGORIAN
METHOD:PUBLISH
X-WR-CALNAME:Jesús Nazareno
X-ORIGINAL-URL:http://jesusnazarenoubeda.es
X-WR-CALDESC:Eventos para Jesús Nazareno
REFRESH-INTERVAL;VALUE=DURATION:PT1H
X-Robots-Tag:noindex
X-PUBLISHED-TTL:PT1H
BEGIN:VTIMEZONE
TZID:UTC
BEGIN:STANDARD
TZOFFSETFROM:+0000
TZOFFSETTO:+0000
TZNAME:UTC
DTSTART:20180101T000000
END:STANDARD
END:VTIMEZONE
BEGIN:VEVENT
DTSTART;TZID=UTC:20180903T203000
DTEND;TZID=UTC:20180903T213000
DTSTAMP:20260423T140920
CREATED:20180827T103448Z
LAST-MODIFIED:20180827T103448Z
UID:908-1536006600-1536010200@jesusnazarenoubeda.es
SUMMARY:PARTICIPACIÓN COFRADÍA NOVENA VIRGEN DE GUADALUPE
DESCRIPTION:PARTICIPACIÓN COFRADÍA NOVENA VIRGEN DE GUADALUPE VOCALÍA DE CARIDAD\nBasílica Santa María de los Reales Alcázares \n20:30 horas
URL:http://jesusnazarenoubeda.es/event/participacion-cofradia-novena-virgen-de-guadalupe/
LOCATION:Basílica Menor Santa María Reales Alcázares\, Plaza Vázquez de Molina\, Úbeda\, Jaén\, 23400\, Spain
CATEGORIES:Cofradía
ATTACH;FMTTYPE=image/jpeg:http://jesusnazarenoubeda.es/wp-content/uploads/2018/08/virgen-de-guadalupe.jpg
END:VEVENT
BEGIN:VEVENT
DTSTART;TZID=UTC:20180804T210000
DTEND;TZID=UTC:20180804T213000
DTSTAMP:20260423T140920
CREATED:20180802T162019Z
LAST-MODIFIED:20180802T162019Z
UID:881-1533416400-1533418200@jesusnazarenoubeda.es
SUMMARY:MISA DE ESTATUTOS MES DE AGOSTO
DESCRIPTION:MISA DE ESTATUTOS\n4 de agosto de 2018 \n21 horas Capilla Ntro. Padre Jesús Nazareno
URL:http://jesusnazarenoubeda.es/event/misa-de-estatutos-mes-de-agosto/
LOCATION:Basílica Menor Santa María Reales Alcázares\, Plaza Vázquez de Molina\, Úbeda\, Jaén\, 23400\, Spain
CATEGORIES:Misas
ATTACH;FMTTYPE=image/jpeg:http://jesusnazarenoubeda.es/wp-content/uploads/2018/08/misa-estatutos-agosto-web.jpg
END:VEVENT
BEGIN:VEVENT
DTSTART;TZID=UTC:20180717T193000
DTEND;TZID=UTC:20180717T233000
DTSTAMP:20260423T140920
CREATED:20180717T101559Z
LAST-MODIFIED:20180717T101559Z
UID:870-1531855800-1531870200@jesusnazarenoubeda.es
SUMMARY:VELADA NOCTURNA JUVENIL
DESCRIPTION:VELADA NOCTURNA JUVENIL\nPolideportivo Municipal «El Viejo» \n19:30 horas
URL:http://jesusnazarenoubeda.es/event/velada-nocturna-juvenil/
LOCATION:Polideportivo Municipal «El Viejo»\, Úbeda\, 23400
CATEGORIES:Convivencia
ATTACH;FMTTYPE=image/jpeg:http://jesusnazarenoubeda.es/wp-content/uploads/2018/07/b7072fd4-1213-4d35-b7cf-bc9d1a1976ef.jpg
END:VEVENT
BEGIN:VEVENT
DTSTART;TZID=UTC:20180707T210000
DTEND;TZID=UTC:20180707T213000
DTSTAMP:20260423T140920
CREATED:20180706T102431Z
LAST-MODIFIED:20180706T102431Z
UID:859-1530997200-1530999000@jesusnazarenoubeda.es
SUMMARY:MISA DE ESTATUTOS MES DE JULIO
DESCRIPTION:MISA DE ESTATUTOS MES DE JULIO\nCapilla de Jesús en Basílica de Santa María \n21 horas
URL:http://jesusnazarenoubeda.es/event/misa-de-estatutos-mes-de-julio/
LOCATION:Basílica Menor Santa María Reales Alcázares\, Plaza Vázquez de Molina\, Úbeda\, Jaén\, 23400\, Spain
CATEGORIES:Misas
ATTACH;FMTTYPE=image/jpeg:http://jesusnazarenoubeda.es/wp-content/uploads/2018/07/misa-estatutos-julio-web.jpg
END:VEVENT
BEGIN:VEVENT
DTSTART;TZID=UTC:20180705T080000
DTEND;TZID=UTC:20180708T170000
DTSTAMP:20260423T140920
CREATED:20180703T074249Z
LAST-MODIFIED:20180703T074249Z
UID:853-1530777600-1531069200@jesusnazarenoubeda.es
SUMMARY:CASETA DE LA COFRADÍA EN LAS FIESTAS DEL RENACIMIENTO 2018
DESCRIPTION:CASETA EN LAS FIESTAS DEL RENACIMIENTO\nLocal de Tronos \nDel 5 al 8 de julio
URL:http://jesusnazarenoubeda.es/event/caseta-de-la-cofradia-en-las-fiestas-del-renacimiento-2018/
LOCATION:Salón de Tronos\, Plaza de Ayuntamiento\, Úbeda\, Jaén\, 23400\, Spain
CATEGORIES:Cofradía
ATTACH;FMTTYPE=image/jpeg:http://jesusnazarenoubeda.es/wp-content/uploads/2018/07/5514315a-4c74-43c4-8b8f-5718c6c397b2.jpg
END:VEVENT
BEGIN:VEVENT
DTSTART;TZID=UTC:20180610T103000
DTEND;TZID=UTC:20180610T130000
DTSTAMP:20260423T140920
CREATED:20180604T104142Z
LAST-MODIFIED:20180604T104230Z
UID:818-1528626600-1528635600@jesusnazarenoubeda.es
SUMMARY:III MARCHA SOLIDARIA
DESCRIPTION:III MARCHA SOLIDARIA\nDomingo 10 de junio 10:30 horas \nBasílica de Santa María \n 
URL:http://jesusnazarenoubeda.es/event/iii-marcha-solidaria/
LOCATION:Basílica Menor Santa María Reales Alcázares\, Plaza Vázquez de Molina\, Úbeda\, Jaén\, 23400\, Spain
CATEGORIES:Solidaridad
ATTACH;FMTTYPE=image/jpeg:http://jesusnazarenoubeda.es/wp-content/uploads/2018/06/b6f8526c-41ad-499b-a93f-103462f5ec30.jpg
END:VEVENT
BEGIN:VEVENT
DTSTART;TZID=UTC:20180609T210000
DTEND;TZID=UTC:20180609T223000
DTSTAMP:20260423T140920
CREATED:20180521T111615Z
LAST-MODIFIED:20180521T111615Z
UID:786-1528578000-1528583400@jesusnazarenoubeda.es
SUMMARY:REPRESENTACIÓN DE LA OBRA "YERMA"
DESCRIPTION:REPRESENTACIÓN DE LA OBRA «YERMA»\nSábado 9 de junio a las 21 horas \nTeatro Ideal Cinema Úbeda
URL:http://jesusnazarenoubeda.es/event/representacion-de-la-obra-yerma/
LOCATION:Teatro Ideal Cinema\, Úbeda\, C/ Real\, Úbeda\, Jaén\, 23400
CATEGORIES:Teatro
ATTACH;FMTTYPE=image/jpeg:http://jesusnazarenoubeda.es/wp-content/uploads/2018/05/cartel-unión.jpg
END:VEVENT
BEGIN:VEVENT
DTSTART;TZID=UTC:20180603T100000
DTEND;TZID=UTC:20180603T120000
DTSTAMP:20260423T140920
CREATED:20180523T103732Z
LAST-MODIFIED:20180523T103732Z
UID:790-1528020000-1528027200@jesusnazarenoubeda.es
SUMMARY:CORPUS CHRISTI
DESCRIPTION:CORPUS CRHISTI\nDomingo 3 de junio de 2018 \n10 de la mañana \n 
URL:http://jesusnazarenoubeda.es/event/corpus-christi/
LOCATION:Basílica Menor Santa María Reales Alcázares\, Plaza Vázquez de Molina\, Úbeda\, Jaén\, 23400\, Spain
CATEGORIES:CORPUS CHRISTI
ATTACH;FMTTYPE=image/jpeg:http://jesusnazarenoubeda.es/wp-content/uploads/2018/05/33157678_1679328122155953_3174273563829993472_n.jpg
END:VEVENT
BEGIN:VEVENT
DTSTART;TZID=UTC:20180519T203000
DTEND;TZID=UTC:20180519T213000
DTSTAMP:20260423T140920
CREATED:20180516T084417Z
LAST-MODIFIED:20180516T084417Z
UID:776-1526761800-1526765400@jesusnazarenoubeda.es
SUMMARY:MISA JÓVEN PENTECOSTÉS
DESCRIPTION:MISA JÓVEN PENTECOSTÉS\nSábado 19 de mayo de 2018 \nPolideportivo La Barrosa (La Patera) Úbeda
URL:http://jesusnazarenoubeda.es/event/misa-joven-pentecostes/
LOCATION:Jaén
CATEGORIES:Misas
ATTACH;FMTTYPE=image/jpeg:http://jesusnazarenoubeda.es/wp-content/uploads/2018/05/23a271a8-af28-4307-8eda-3af272dc72c3.jpg
END:VEVENT
BEGIN:VEVENT
DTSTART;TZID=UTC:20180516T203000
DTEND;TZID=UTC:20180516T213000
DTSTAMP:20260423T140920
CREATED:20180516T084046Z
LAST-MODIFIED:20180516T084046Z
UID:772-1526502600-1526506200@jesusnazarenoubeda.es
SUMMARY:TALLER DE ORACIÓN
DESCRIPTION:TALLER DE ORACIÓN\n16 de mayo de 2018 a las 20:30 horas \nIglesia de San Miguel (Frailes) \n 
URL:http://jesusnazarenoubeda.es/event/taller-de-oracion/
LOCATION:Iglesia de San Miguel\, Úbeda\, Úbeda\, Jaén\, 23400
CATEGORIES:Cofradía
ATTACH;FMTTYPE=image/jpeg:http://jesusnazarenoubeda.es/wp-content/uploads/2018/05/e0d72974-6a18-460e-b781-db0831afb65e.jpg
END:VEVENT
BEGIN:VEVENT
DTSTART;TZID=UTC:20180511T080000
DTEND;TZID=UTC:20180511T170000
DTSTAMP:20260423T140920
CREATED:20180427T162951Z
LAST-MODIFIED:20180427T172927Z
UID:708-1526025600-1526058000@jesusnazarenoubeda.es
SUMMARY:CONFERENCIA | "Los orígenes de la cofradía de Jesús Nazareno"
DESCRIPTION:CONFERENCIA «LOS ORÍGENES DE LA COFRADÍA DE JESÚS NAZARENO»\nViernes 11 de mayo de 2018 21:00 horas \nCasa de Jesús
URL:http://jesusnazarenoubeda.es/event/conferencia-los-origenes-de-la-cofradia-de-jesus-nazareno/
LOCATION:Casa de Jesús\, C/ Compañía\, Úbeda\, Jaén\, 23400\, Spain
CATEGORIES:Conferencia
ATTACH;FMTTYPE=image/jpeg:http://jesusnazarenoubeda.es/wp-content/uploads/2018/04/CONFERENCIA-11-05-18-web-1.jpg
END:VEVENT
BEGIN:VEVENT
DTSTART;TZID=UTC:20180505T190000
DTEND;TZID=UTC:20180505T210000
DTSTAMP:20260423T140920
CREATED:20180430T100812Z
LAST-MODIFIED:20180430T100812Z
UID:726-1525546800-1525554000@jesusnazarenoubeda.es
SUMMARY:PROCESIONES INFANTILES 2018
DESCRIPTION:PROCESIONES INFANTILES\nSábado 5 de mayo \n19 horas
URL:http://jesusnazarenoubeda.es/event/procesiones-infantiles-2018/
LOCATION:Jaén
CATEGORIES:Cofradía
ATTACH;FMTTYPE=image/jpeg:http://jesusnazarenoubeda.es/wp-content/uploads/2018/04/IMG_1323.jpg
END:VEVENT
BEGIN:VEVENT
DTSTART;TZID=UTC:20180505T190000
DTEND;TZID=UTC:20180505T200000
DTSTAMP:20260423T140920
CREATED:20180430T084438Z
LAST-MODIFIED:20180430T084438Z
UID:720-1525546800-1525550400@jesusnazarenoubeda.es
SUMMARY:MISA DE ESTATUTOS DEL MES DE MAYO
DESCRIPTION:MISA DE ESTATUTOS\nSábado 5 de mayo 19:00 horas \nBasílica Santa María de los Reales Alcázares \n 
URL:http://jesusnazarenoubeda.es/event/misa-de-estatutos-del-mes-de-mayo/
LOCATION:Basílica Menor Santa María Reales Alcázares\, Plaza Vázquez de Molina\, Úbeda\, Jaén\, 23400\, Spain
CATEGORIES:Misas
ATTACH;FMTTYPE=image/jpeg:http://jesusnazarenoubeda.es/wp-content/uploads/2018/04/misa-estatutos-mayo-web.jpg
END:VEVENT
BEGIN:VEVENT
DTSTART;TZID=UTC:20180504T120000
DTEND;TZID=UTC:20180506T220000
DTSTAMP:20260423T140920
CREATED:20180413T101130Z
LAST-MODIFIED:20180430T110946Z
UID:631-1525435200-1525644000@jesusnazarenoubeda.es
SUMMARY:Cruz de mayo Cofradía Jesús Nazareno
DESCRIPTION:CRUZ DE MAYO JESÚS NAZARENO\nDías 4\, 5 y 6 de mayo de 2018 a partir de las 13 horas \nPlaza del Ayuntamiento (local de tronos)
URL:http://jesusnazarenoubeda.es/event/cruz-de-mayo-cofradia-jesus-nazareno/
LOCATION:Plaza del Ayuntamiento\, Úbeda\, Jaén\, 23400\, España
CATEGORIES:Cofradía
ATTACH;FMTTYPE=image/jpeg:http://jesusnazarenoubeda.es/wp-content/uploads/2018/04/5fb30c09-da4e-4adf-9aa1-186075c13409.jpg
END:VEVENT
BEGIN:VEVENT
DTSTART;TZID=UTC:20180421T113000
DTEND;TZID=UTC:20180421T120000
DTSTAMP:20260423T140920
CREATED:20180413T100119Z
LAST-MODIFIED:20180413T100119Z
UID:628-1524310200-1524312000@jesusnazarenoubeda.es
SUMMARY:Homenaje de la cofradía a D. Juan Pasquau Guerrero
DESCRIPTION:HOMENAJE A D. JUAN PASQUAU GUERRERO\nSábado 21 de abril de 2018 \n11:30 junto a su busto situado en Hospital de Santiago
URL:http://jesusnazarenoubeda.es/event/homenaje-de-la-cofradia-a-d-juan-pasquau-guerrero/
LOCATION:Hospital de Santiago\, Úbeda\, Jaén\, 23400\, Spain
CATEGORIES:Homenaje
ATTACH;FMTTYPE=image/bmp:http://jesusnazarenoubeda.es/wp-content/uploads/2018/04/pasquau01.bmp
END:VEVENT
BEGIN:VEVENT
DTSTART;TZID=UTC:20180421T103000
DTEND;TZID=UTC:20180421T140000
DTSTAMP:20260423T140920
CREATED:20180413T102253Z
LAST-MODIFIED:20180413T102253Z
UID:635-1524306600-1524319200@jesusnazarenoubeda.es
SUMMARY:Gymcana Cofrade 2018
DESCRIPTION:GYMCANA COFRADE 2018\nSábado 21 de abril a partir de las 10:30 horas \nIglesia de Santo domingo
URL:http://jesusnazarenoubeda.es/event/gymcana-cofrade-2018/
LOCATION:Iglesia de Santo Domingo\, Úbeda\, 23400
CATEGORIES:Unión de cofradías
ATTACH;FMTTYPE=image/jpeg:http://jesusnazarenoubeda.es/wp-content/uploads/2018/04/gymncana.jpg
END:VEVENT
BEGIN:VEVENT
DTSTART;TZID=UTC:20180407T190000
DTEND;TZID=UTC:20180407T203000
DTSTAMP:20260423T140920
CREATED:20180306T112433Z
LAST-MODIFIED:20180306T112433Z
UID:274-1523127600-1523133000@jesusnazarenoubeda.es
SUMMARY:MISAS | Misa Mensual de Estatutos
DESCRIPTION:MISA MENSUAL DE ESTATUTOS\nSábado 7 de abril a las 19 horas \nCapilla Ntro. Padre Jesús Nazareno
URL:http://jesusnazarenoubeda.es/event/misas-misa-mensual-de-estatutos/
LOCATION:Basílica Menor Santa María Reales Alcázares\, Plaza Vázquez de Molina\, Úbeda\, Jaén\, 23400\, Spain
CATEGORIES:Misas
ATTACH;FMTTYPE=image/jpeg:http://jesusnazarenoubeda.es/wp-content/uploads/2018/03/misa-estatutos-abril-web.jpg
END:VEVENT
BEGIN:VEVENT
DTSTART;TZID=UTC:20180407T190000
DTEND;TZID=UTC:20180407T200000
DTSTAMP:20260423T140920
CREATED:20180403T103051Z
LAST-MODIFIED:20180403T103139Z
UID:585-1523127600-1523131200@jesusnazarenoubeda.es
SUMMARY:Misa de estatutos mes de abril
DESCRIPTION:MISA DE ESTATUTOS\nCapilla Ntro. Padre Jesús Nazareno \n7 de abril de 2018 19 horas \n 
URL:http://jesusnazarenoubeda.es/event/585/
LOCATION:Jaén
CATEGORIES:Misas
ATTACH;FMTTYPE=image/jpeg:http://jesusnazarenoubeda.es/wp-content/uploads/2018/04/misa-estatutos-abril.jpg
END:VEVENT
BEGIN:VEVENT
DTSTART;TZID=UTC:20180330T193000
DTEND;TZID=UTC:20180330T193000
DTSTAMP:20260423T140920
CREATED:20180306T111421Z
LAST-MODIFIED:20180306T111421Z
UID:271-1522438200-1522438200@jesusnazarenoubeda.es
SUMMARY:COFRADÍA | Procesión General
DESCRIPTION:PROCESIÓN GENERAL\nViernes Santo 30 de marzo 19:30 horas \nLocal de Tronos
URL:http://jesusnazarenoubeda.es/event/cofradia-procesion-general/
LOCATION:Salón de Tronos\, Plaza de Ayuntamiento\, Úbeda\, Jaén\, 23400\, Spain
CATEGORIES:Cofradía
ATTACH;FMTTYPE=image/jpeg:http://jesusnazarenoubeda.es/wp-content/uploads/2018/03/DSC_2120.jpg
END:VEVENT
BEGIN:VEVENT
DTSTART;TZID=UTC:20180330T050000
DTEND;TZID=UTC:20180330T220000
DTSTAMP:20260423T140920
CREATED:20180306T111203Z
LAST-MODIFIED:20180306T111203Z
UID:268-1522386000-1522447200@jesusnazarenoubeda.es
SUMMARY:COFRADÍA | Procesión Viernes Santo
DESCRIPTION:PROCESIÓN VIERNES SANTO\nViernes 30 de marzo\, apertura Casa de Jesús 5 horas \nProcesión 7 horas
URL:http://jesusnazarenoubeda.es/event/cofradia-procesion-viernes-santo/
LOCATION:Casa de Jesús\, C/ Compañía\, Úbeda\, Jaén\, 23400\, Spain
CATEGORIES:Cofradía
ATTACH;FMTTYPE=image/jpeg:http://jesusnazarenoubeda.es/wp-content/uploads/2018/03/DSC_1596.jpg
END:VEVENT
BEGIN:VEVENT
DTSTART;TZID=UTC:20180326T163000
DTEND;TZID=UTC:20180328T200000
DTSTAMP:20260423T140920
CREATED:20180306T110836Z
LAST-MODIFIED:20180306T110836Z
UID:266-1522081800-1522267200@jesusnazarenoubeda.es
SUMMARY:COFRADÍA | Recogida velas
DESCRIPTION:RECOGIDA VELAS\nDel 26 al 28 de marzo\, de 16:30 a 20 horas \nCasa de Jesús
URL:http://jesusnazarenoubeda.es/event/cofradia-recogida-velas/
LOCATION:Casa de Jesús\, C/ Compañía\, Úbeda\, Jaén\, 23400\, Spain
CATEGORIES:Cofradía
ATTACH;FMTTYPE=image/jpeg:http://jesusnazarenoubeda.es/wp-content/uploads/2016/02/cropped-11003388_10205661658611609_1393983088_o.jpg
END:VEVENT
BEGIN:VEVENT
DTSTART;TZID=UTC:20180323T200000
DTEND;TZID=UTC:20180323T220000
DTSTAMP:20260423T140920
CREATED:20180306T110608Z
LAST-MODIFIED:20180319T121318Z
UID:263-1521835200-1521842400@jesusnazarenoubeda.es
SUMMARY:COFRADÍA | Fiesta Santísima Virgen de los Dolores
DESCRIPTION:FIESTA SANTÍSIMA VIRGEN DE LOS DOLORES\nViernes 23 de marzo a las 20:15 horas \nBasílica Santa María
URL:http://jesusnazarenoubeda.es/event/cofradia-fiesta-santisima-virgen-de-los-dolores/
LOCATION:Basílica Menor Santa María Reales Alcázares\, Plaza Vázquez de Molina\, Úbeda\, Jaén\, 23400\, Spain
CATEGORIES:Cofradía
ATTACH;FMTTYPE=image/jpeg:http://jesusnazarenoubeda.es/wp-content/uploads/2018/03/4f378db5-5ead-4e3f-9b06-8fbcfcc8fe56.jpg
END:VEVENT
BEGIN:VEVENT
DTSTART;TZID=UTC:20180323T110000
DTEND;TZID=UTC:20180323T200000
DTSTAMP:20260423T140920
CREATED:20180306T110008Z
LAST-MODIFIED:20180306T110008Z
UID:258-1521802800-1521835200@jesusnazarenoubeda.es
SUMMARY:COFRADÍA | Devoto besapié Jesús Nazareno
DESCRIPTION:DEVOTO BESAPIÉ JESÚS NAZARENO\nViernes 23 de marzo\, de 11 a 13:30 horas y de 17 a 20 horas. \nCapilla Ntro. Padre Jesús Nazareno
URL:http://jesusnazarenoubeda.es/event/cofradia-devoto-besapie-jesus-nazareno/
LOCATION:Basílica Menor Santa María Reales Alcázares\, Plaza Vázquez de Molina\, Úbeda\, Jaén\, 23400\, Spain
CATEGORIES:Cofradía
ATTACH;FMTTYPE=image/jpeg:http://jesusnazarenoubeda.es/wp-content/uploads/2016/03/DSC6586.jpg
END:VEVENT
BEGIN:VEVENT
DTSTART;TZID=UTC:20180322T220000
DTEND;TZID=UTC:20180322T233000
DTSTAMP:20260423T140920
CREATED:20180306T105725Z
LAST-MODIFIED:20180306T105725Z
UID:255-1521756000-1521761400@jesusnazarenoubeda.es
SUMMARY:COFRADÍA | Mudá de los tronos
DESCRIPTION:MUDÁ TRONOS\nJueves 22 de marzo de 2018\, 22 horas \nSalón de tronos \n 
URL:http://jesusnazarenoubeda.es/event/cofradia-muda-de-los-tronos/
LOCATION:Salón de Tronos\, Plaza de Ayuntamiento\, Úbeda\, Jaén\, 23400\, Spain
CATEGORIES:Cofradía
ATTACH;FMTTYPE=image/jpeg:http://jesusnazarenoubeda.es/wp-content/uploads/2016/03/slider2-e1461446707725.jpg
END:VEVENT
BEGIN:VEVENT
DTSTART;TZID=UTC:20180318T103000
DTEND;TZID=UTC:20180318T123000
DTSTAMP:20260423T140920
CREATED:20180306T105355Z
LAST-MODIFIED:20180306T105355Z
UID:251-1521369000-1521376200@jesusnazarenoubeda.es
SUMMARY:COFRADÍA | Asamblea General Ordinaria
DESCRIPTION:ASAMBLEA GENERAL ORDINARIA\nDomingo 18 de marzo a las 10:30 horas \nSala Julio Corzo Hospital de Santiago
URL:http://jesusnazarenoubeda.es/event/cofradia-asamblea-general-ordinaria/
LOCATION:Hospital de Santiago\, Úbeda\, Jaén\, 23400\, Spain
CATEGORIES:Cofradía
ATTACH;FMTTYPE=image/jpeg:http://jesusnazarenoubeda.es/wp-content/uploads/2018/03/27857849_1461052550659023_8693979730663018830_n.jpg
END:VEVENT
BEGIN:VEVENT
DTSTART;TZID=UTC:20180316T200000
DTEND;TZID=UTC:20180316T213000
DTSTAMP:20260423T140920
CREATED:20180312T085734Z
LAST-MODIFIED:20180312T085734Z
UID:298-1521230400-1521235800@jesusnazarenoubeda.es
SUMMARY:CONFERENCIA| "Antigüedad y raíces medievales de nuestra cofradía"
DESCRIPTION:CONFERENCIA «ANTIGÜEDAD Y RAÍCES MEDIEVALES DE DE LA COFRADÍA DE NUESTROPADRE JESÚS NAZARENO»\nClub Diana \nViernes 16 de marzo a las 20 horas
URL:http://jesusnazarenoubeda.es/event/conferencia-antiguedad-y-raices-medievales-de-nuestra-cofradia/
LOCATION:Club Diana\, Calle Obispo Cobos\, Ciudad\, Jaén\, 23400\, España
CATEGORIES:Cofradía
ATTACH;FMTTYPE=image/jpeg:http://jesusnazarenoubeda.es/wp-content/uploads/2018/03/IMG_0204.jpg
END:VEVENT
BEGIN:VEVENT
DTSTART;TZID=UTC:20180310T120000
DTEND;TZID=UTC:20180310T140000
DTSTAMP:20260423T140920
CREATED:20180306T104608Z
LAST-MODIFIED:20180306T104608Z
UID:244-1520683200-1520690400@jesusnazarenoubeda.es
SUMMARY:CONVIVENCIA | Jornada de convivencia para jóvenes
DESCRIPTION:JORNADA DE CONVIVENCIA PARA JÓVENES\nDía 10 de marzo a las 12 horas \nCasa de Jesús\, calle Compañía
URL:http://jesusnazarenoubeda.es/event/convivencia-jornada-de-convivencia-para-jovenes/
LOCATION:Casa de Jesús\, C/ Compañía\, Úbeda\, Jaén\, 23400\, Spain
CATEGORIES:Convivencia
ATTACH;FMTTYPE=image/jpeg:http://jesusnazarenoubeda.es/wp-content/uploads/2018/03/CARTEL-CONVIVENCIA-JÓVENES-WEB.jpg
END:VEVENT
BEGIN:VEVENT
DTSTART;TZID=UTC:20180309T210000
DTEND;TZID=UTC:20180309T230000
DTSTAMP:20260423T140920
CREATED:20180306T104910Z
LAST-MODIFIED:20180306T104910Z
UID:248-1520629200-1520636400@jesusnazarenoubeda.es
SUMMARY:COSTALEROS | Ensayo costaleros Santa maría
DESCRIPTION:ENSAYO COSTALEROS SANTA MARÍA\nViernes 9 de marzo a las 21 horas \nSanta María
URL:http://jesusnazarenoubeda.es/event/costaleros-ensayo-costaleros-santa-maria/
LOCATION:Basílica Menor Santa María Reales Alcázares\, Plaza Vázquez de Molina\, Úbeda\, Jaén\, 23400\, Spain
CATEGORIES:Costaleros
ATTACH;FMTTYPE=image/jpeg:http://jesusnazarenoubeda.es/wp-content/uploads/2018/03/DSC_1690.jpg
END:VEVENT
BEGIN:VEVENT
DTSTART;TZID=UTC:20180303T190000
DTEND;TZID=UTC:20180303T203000
DTSTAMP:20260423T140920
CREATED:20180302T082644Z
LAST-MODIFIED:20180302T122411Z
UID:199-1520103600-1520109000@jesusnazarenoubeda.es
SUMMARY:Misa de Estatutos sábado 3 de marzo
DESCRIPTION:MISA DE ESTATUTOS\nBasílica Menor Santa María de los Reales Alcázares \nSábado 3 de marzo a las 19 horas
URL:http://jesusnazarenoubeda.es/event/misa-de-estatutos-sabado-3-de-marzo/
LOCATION:Basílica Menor Santa María Reales Alcázares\, Plaza Vázquez de Molina\, Úbeda\, Jaén\, 23400\, Spain
CATEGORIES:Misas
ATTACH;FMTTYPE=image/jpeg:http://jesusnazarenoubeda.es/wp-content/uploads/2018/03/misa-estatutos-marzo.jpg
END:VEVENT
BEGIN:VEVENT
DTSTART;TZID=UTC:20180303T183000
DTEND;TZID=UTC:20180303T193000
DTSTAMP:20260423T140920
CREATED:20180302T083308Z
LAST-MODIFIED:20180302T122903Z
UID:201-1520101800-1520105400@jesusnazarenoubeda.es
SUMMARY:Misa Joven Úbeda
DESCRIPTION:MISA JÓVEN ÚBEDA\nIglesia Carmelitas Descalzas \nSábado 3 de marzo a las 18:30 horas
URL:http://jesusnazarenoubeda.es/event/misa-joven-ubeda/
LOCATION:Iglesia Carmelitas Descalzas\, Plaza Santa Teresa de Jesús\, Úbeda\, Jaén\, 23400\, Spain
CATEGORIES:Misas
ATTACH;FMTTYPE=image/jpeg:http://jesusnazarenoubeda.es/wp-content/uploads/2018/03/2e247afe-95bd-4926-a3f8-fbb6cdf46c63.jpg
END:VEVENT
END:VCALENDAR