BEGIN:VCALENDAR
VERSION:2.0
PRODID:-//Jesús Nazareno - ECPv6.1.3//NONSGML v1.0//EN
CALSCALE:GREGORIAN
METHOD:PUBLISH
X-ORIGINAL-URL:http://jesusnazarenoubeda.es
X-WR-CALDESC:Eventos para Jesús Nazareno
REFRESH-INTERVAL;VALUE=DURATION:PT1H
X-Robots-Tag:noindex
X-PUBLISHED-TTL:PT1H
BEGIN:VTIMEZONE
TZID:UTC
BEGIN:STANDARD
TZOFFSETFROM:+0000
TZOFFSETTO:+0000
TZNAME:UTC
DTSTART:20180101T000000
END:STANDARD
END:VTIMEZONE
BEGIN:VEVENT
DTSTART;TZID=UTC:20190413T200000
DTEND;TZID=UTC:20190413T220000
DTSTAMP:20260421T113716
CREATED:20190410T100251Z
LAST-MODIFIED:20190410T100251Z
UID:1225-1555185600-1555192800@jesusnazarenoubeda.es
SUMMARY:PREGÓN DE LA SEMANA SANTA 2019
DESCRIPTION:PREGÓN DE LA SEMANA SANTA 2019\nSábado 13 de abril a las 20 horas \nHospital de Santiago
URL:http://jesusnazarenoubeda.es/event/pregon-de-la-semana-santa-2019/
LOCATION:Hospital de Santiago\, Úbeda\, Jaén\, 23400\, Spain
CATEGORIES:Pregón
ATTACH;FMTTYPE=image/jpeg:http://jesusnazarenoubeda.es/wp-content/uploads/2019/04/56575857_1992229797740015_2901079567533867008_n.jpg
END:VEVENT
BEGIN:VEVENT
DTSTART;TZID=UTC:20190413T170000
DTEND;TZID=UTC:20190421T210000
DTSTAMP:20260421T113716
CREATED:20190410T095143Z
LAST-MODIFIED:20190410T095255Z
UID:1221-1555174800-1555880400@jesusnazarenoubeda.es
SUMMARY:APERTURA DE LA TIENDA DE LA COFRADÍA
DESCRIPTION:APERTURA DE LA TIENDA DE LA COFRADÍA\nDe sábado a Domingo de Resurrección\, excepto Viernes Santo \nCalle Real de 17:00 a 21 horas
URL:http://jesusnazarenoubeda.es/event/apertura-de-la-tienda-de-la-cofradia/
LOCATION:Calle Real\, Úbeda\, Úbeda\, 23400
CATEGORIES:Cofradía
ATTACH;FMTTYPE=image/jpeg:http://jesusnazarenoubeda.es/wp-content/uploads/2019/04/4390ab65-e457-494d-abfb-340e263430d2.jpg
END:VEVENT
BEGIN:VEVENT
DTSTART;TZID=UTC:20190412T200000
DTEND;TZID=UTC:20190412T213000
DTSTAMP:20260421T113716
CREATED:20190322T125011Z
LAST-MODIFIED:20190410T094418Z
UID:1202-1555099200-1555104600@jesusnazarenoubeda.es
SUMMARY:FIESTA EN HONOR DE LA SANTÍSIMA VIRGEN DE LOS DOLORES
DESCRIPTION:FIESTA EN HONOR A LA SANTÍSIMA VIRGEN DE LOS DOLORES\nBasílica Menor Santa María de los Reales Alcázares \n20:15 horas
URL:http://jesusnazarenoubeda.es/event/fiesta-en-honor-de-la-santisima-virgen-de-los-dolores/
LOCATION:Basílica Menor Santa María Reales Alcázares\, Plaza Vázquez de Molina\, Úbeda\, Jaén\, 23400\, Spain
CATEGORIES:Fiesta Stma. Virgen de los Dolores
ATTACH;FMTTYPE=image/jpeg:http://jesusnazarenoubeda.es/wp-content/uploads/2019/04/cartel_fiesta_virgen_2019-1.jpeg
END:VEVENT
BEGIN:VEVENT
DTSTART;TZID=UTC:20190412T110000
DTEND;TZID=UTC:20190412T200000
DTSTAMP:20260421T113716
CREATED:20190322T124743Z
LAST-MODIFIED:20190322T124743Z
UID:1200-1555066800-1555099200@jesusnazarenoubeda.es
SUMMARY:DEVOTO BESAPIE A NTRO. PADRE JESÚS NAZARENO
DESCRIPTION:DEVOTO BESAPIE A NTRO. PADRE JESÚS NAZARENO\nBasílica Menor Santa María de los Reales Alcázares \n11 a 13:30 h y 17 a 20 h\,
URL:http://jesusnazarenoubeda.es/event/devoto-besapie-a-ntro-padre-jesus-nazareno/
LOCATION:Basílica Menor Santa María Reales Alcázares\, Plaza Vázquez de Molina\, Úbeda\, Jaén\, 23400\, Spain
CATEGORIES:Besapie,Cofradía
ATTACH;FMTTYPE=image/jpeg:http://jesusnazarenoubeda.es/wp-content/uploads/2016/01/foto1.jpg
END:VEVENT
BEGIN:VEVENT
DTSTART;TZID=UTC:20190407T103000
DTEND;TZID=UTC:20190407T130000
DTSTAMP:20260421T113716
CREATED:20190322T124346Z
LAST-MODIFIED:20190322T124346Z
UID:1197-1554633000-1554642000@jesusnazarenoubeda.es
SUMMARY:ASAMBLEA GENERAL ORDINARIA DEL DOMINGO DE PASIÓN
DESCRIPTION:ASAMBLEA GENERAL ORDINARIA\nSala Julio Corzo\, Hospital de Santiago \n10.30 primera convocatoria\, 11 segunda convocatoria
URL:http://jesusnazarenoubeda.es/event/asamblea-general-ordinaria-del-domingo-de-pasion/
LOCATION:Hospital de Santiago\, Úbeda\, Jaén\, 23400\, Spain
CATEGORIES:Asamblea,Cofradía
ATTACH;FMTTYPE=image/jpeg:http://jesusnazarenoubeda.es/wp-content/uploads/2019/01/11003388_10205661658611609_1393983088_o.jpg
END:VEVENT
BEGIN:VEVENT
DTSTART;TZID=UTC:20190406T190000
DTEND;TZID=UTC:20190406T200000
DTSTAMP:20260421T113716
CREATED:20190331T070401Z
LAST-MODIFIED:20190331T070401Z
UID:1206-1554577200-1554580800@jesusnazarenoubeda.es
SUMMARY:MISA DE ESTATUTOS DEL MES DE ABRIL
DESCRIPTION:MISA DE ESTATUTOS\nSábado 6 de abril de 2019\, 19 horas \nCapilla Ntro. Padre Jesús Nazareno
URL:http://jesusnazarenoubeda.es/event/misa-de-estatutos-del-mes-de-abril/
LOCATION:Basílica Menor Santa María Reales Alcázares\, Plaza Vázquez de Molina\, Úbeda\, Jaén\, 23400\, Spain
CATEGORIES:Besapie,Misas
ATTACH;FMTTYPE=image/jpeg:http://jesusnazarenoubeda.es/wp-content/uploads/2019/03/misa-estatutos-abril-web.jpg
END:VEVENT
BEGIN:VEVENT
DTSTART;TZID=UTC:20190317T100000
DTEND;TZID=UTC:20190317T130000
DTSTAMP:20260421T113716
CREATED:20190313T080926Z
LAST-MODIFIED:20190313T080926Z
UID:1165-1552816800-1552827600@jesusnazarenoubeda.es
SUMMARY:ENSAYO DE COSTALEROS EL DOMINGO 17 DE MARZO
DESCRIPTION:ENSAYO DE COSTALEROS\nDomingo 17 de marzo de 2019 \nLocal de Tronos 10 horas
URL:http://jesusnazarenoubeda.es/event/ensayo-de-costaleros-el-domingo-17-de-marzo/
LOCATION:Local de Tronos\, Plaza del Ayuntamiento\, Úbeda\, 23400
CATEGORIES:Cofradía,Convivencia,Costaleros
ATTACH;FMTTYPE=image/jpeg:http://jesusnazarenoubeda.es/wp-content/uploads/2019/03/DSC_4705.jpg
END:VEVENT
BEGIN:VEVENT
DTSTART;TZID=UTC:20190316T180000
DTEND;TZID=UTC:20190316T190000
DTSTAMP:20260421T113716
CREATED:20190313T075624Z
LAST-MODIFIED:20190313T075624Z
UID:1160-1552759200-1552762800@jesusnazarenoubeda.es
SUMMARY:MISA JOVEN
DESCRIPTION:MISA JOVEN\nSábado 16 de marzo de 2019 \nCasa de Jesús 18 horas
URL:http://jesusnazarenoubeda.es/event/misa-joven/
LOCATION:Casa de Jesús\, C/ Compañía\, Úbeda\, Jaén\, 23400\, Spain
ATTACH;FMTTYPE=image/jpeg:http://jesusnazarenoubeda.es/wp-content/uploads/2019/03/53826569_1929729280486886_6702658784554123264_n.jpg
END:VEVENT
BEGIN:VEVENT
DTSTART;TZID=UTC:20190313T200000
DTEND;TZID=UTC:20190313T210000
DTSTAMP:20260421T113716
CREATED:20190313T081158Z
LAST-MODIFIED:20190313T081158Z
UID:1170-1552507200-1552510800@jesusnazarenoubeda.es
SUMMARY:JAÉN EN MISIÓN
DESCRIPTION:JAÉN EN MISIÓN\nMiércoles 13 de marzo de 2019 \nCasa de Jesús 20 horas
URL:http://jesusnazarenoubeda.es/event/jaen-en-mision/
LOCATION:Casa de Jesús\, C/ Compañía\, Úbeda\, Jaén\, 23400\, Spain
CATEGORIES:JAÉN EN MISIÓN
ATTACH;FMTTYPE=image/jpeg:http://jesusnazarenoubeda.es/wp-content/uploads/2019/02/cartel-web.jpg
END:VEVENT
BEGIN:VEVENT
DTSTART;TZID=UTC:20190309T200000
DTEND;TZID=UTC:20190309T213000
DTSTAMP:20260421T113716
CREATED:20190304T174623Z
LAST-MODIFIED:20190304T174623Z
UID:1145-1552161600-1552167000@jesusnazarenoubeda.es
SUMMARY:VÍA CRUCIS DE NTRO. PADRE JESÚS NAZARENO
DESCRIPTION:VÍA CRUCIS DE NTRO. PADRE JESÚS NAZARENO\nSábado 9 de marzo de 2019 20 horas \nBasílica Menor Santa María de los Reales Alcázares
URL:http://jesusnazarenoubeda.es/event/via-crucis-de-ntro-padre-jesus-nazareno/
LOCATION:Basílica Menor Santa María Reales Alcázares\, Plaza Vázquez de Molina\, Úbeda\, Jaén\, 23400\, Spain
CATEGORIES:Cofradía,Vía Crucis
ATTACH;FMTTYPE=image/jpeg:http://jesusnazarenoubeda.es/wp-content/uploads/2019/03/4a2122a4-1c40-4895-9b8c-63280bc6056e.jpg
END:VEVENT
BEGIN:VEVENT
DTSTART;TZID=UTC:20190309T170000
DTEND;TZID=UTC:20190309T190000
DTSTAMP:20260421T113716
CREATED:20190301T090150Z
LAST-MODIFIED:20190301T090150Z
UID:1141-1552150800-1552158000@jesusnazarenoubeda.es
SUMMARY:VÍA LUCIS STMO. CRISTO DEL GAVELLAR
DESCRIPTION:VÍA LUCIS STMO. CRISTO DEL GAVELLAR\nSábado 9 de marzo de 2019 \nSantuario Virgen de Guadalupe 17 horas
URL:http://jesusnazarenoubeda.es/event/via-lucis-stmo-cristo-del-gavellar/
LOCATION:Santuario Virgen de Guadalupe
CATEGORIES:Vía Lucis
ATTACH;FMTTYPE=image/jpeg:http://jesusnazarenoubeda.es/wp-content/uploads/2019/03/CARTEL-VIA-CRUCIS.jpg
END:VEVENT
BEGIN:VEVENT
DTSTART;TZID=UTC:20190309T113000
DTEND;TZID=UTC:20190309T130000
DTSTAMP:20260421T113716
CREATED:20190305T112723Z
LAST-MODIFIED:20190305T112723Z
UID:1150-1552131000-1552136400@jesusnazarenoubeda.es
SUMMARY:TALLER DE CUARESMA
DESCRIPTION:TALLER DE CUARESMA\nSábado 9 de marzo de 2019 \nCasa de Jesús 11.30 horas
URL:http://jesusnazarenoubeda.es/event/taller-de-cuaresma/
LOCATION:Casa de Jesús\, C/ Compañía\, Úbeda\, Jaén\, 23400\, Spain
CATEGORIES:Cofradía,Convivencia
ATTACH;FMTTYPE=image/jpeg:http://jesusnazarenoubeda.es/wp-content/uploads/2019/03/TALLER-DE-CUARESMA.jpg
END:VEVENT
BEGIN:VEVENT
DTSTART;TZID=UTC:20190302T190000
DTEND;TZID=UTC:20190302T200000
DTSTAMP:20260421T113716
CREATED:20190301T085806Z
LAST-MODIFIED:20190301T085806Z
UID:1139-1551553200-1551556800@jesusnazarenoubeda.es
SUMMARY:MISA DE ESTATUTOS MES DE MARZO
DESCRIPTION:MISA DE ESTATUTOS\nSábado 2 de marzo de 2019 \nCapilla Jesús Nazareno 19 horas
URL:http://jesusnazarenoubeda.es/event/misa-de-estatutos-mes-de-marzo/
LOCATION:Basílica Menor Santa María Reales Alcázares\, Plaza Vázquez de Molina\, Úbeda\, Jaén\, 23400\, Spain
CATEGORIES:Misas
ATTACH;FMTTYPE=image/jpeg:http://jesusnazarenoubeda.es/wp-content/uploads/2019/02/misa-estatutos-marzo-web.jpg
END:VEVENT
BEGIN:VEVENT
DTSTART;TZID=UTC:20190224T100000
DTEND;TZID=UTC:20190224T140000
DTSTAMP:20260421T113716
CREATED:20190220T100122Z
LAST-MODIFIED:20190220T100223Z
UID:1128-1551002400-1551016800@jesusnazarenoubeda.es
SUMMARY:"IGUALÁ" DE COSTALEROS
DESCRIPTION:«IGUALÁ» DE COSTALEROS\nDomingo 24 de febrero de 2019 \nCasa de Jesús de 10 a 14 horas
URL:http://jesusnazarenoubeda.es/event/iguala-de-costaleros/
LOCATION:Casa de Jesús\, C/ Compañía\, Úbeda\, Jaén\, 23400\, Spain
CATEGORIES:Cofradía,Convivencia,Costaleros
ATTACH;FMTTYPE=image/jpeg:http://jesusnazarenoubeda.es/wp-content/uploads/2019/02/52354537_1922797727817834_8100565876559839232_n.jpg
END:VEVENT
BEGIN:VEVENT
DTSTART;TZID=UTC:20190220T200000
DTEND;TZID=UTC:20190220T210000
DTSTAMP:20260421T113716
CREATED:20190220T095835Z
LAST-MODIFIED:20190220T095835Z
UID:1126-1550692800-1550696400@jesusnazarenoubeda.es
SUMMARY:CHARLA DE LA MISIÓN DIOCESANA 2019
DESCRIPTION:CHARLA JAÉN EN MISIÓN\nMiércoles 20 de febrero de 2019 \nCasa de Jesús 20 horas \n 
URL:http://jesusnazarenoubeda.es/event/charla-de-la-mision-diocesana-2019/
LOCATION:Casa de Jesús\, C/ Compañía\, Úbeda\, Jaén\, 23400\, Spain
CATEGORIES:Cofradía,Conferencia,Convivencia,JAÉN EN MISIÓN
ATTACH;FMTTYPE=image/jpeg:http://jesusnazarenoubeda.es/wp-content/uploads/2019/02/cartel-web.jpg
END:VEVENT
BEGIN:VEVENT
DTSTART;TZID=UTC:20190218T210000
DTEND;TZID=UTC:20190218T220000
DTSTAMP:20260421T113716
CREATED:20190212T121410Z
LAST-MODIFIED:20190212T121410Z
UID:1111-1550523600-1550527200@jesusnazarenoubeda.es
SUMMARY:CENA DEL HAMBRE EN SANTO DOMINGO
DESCRIPTION:CENA DEL HAMBRE\nLunes 18 de febrero de 2019 a las 21 horas \nIglesia de Santo Domingo
URL:http://jesusnazarenoubeda.es/event/cena-del-hambre-en-santo-domingo/
LOCATION:Iglesia de Santo Domingo\, Úbeda\, 23400
CATEGORIES:Cofradía,Convivencia,Solidaridad
ATTACH;FMTTYPE=image/jpeg:http://jesusnazarenoubeda.es/wp-content/uploads/2019/02/51747353_1966113923684936_9076404084256276480_n.jpg
END:VEVENT
BEGIN:VEVENT
DTSTART;TZID=UTC:20190216T180000
DTEND;TZID=UTC:20190216T190000
DTSTAMP:20260421T113716
CREATED:20190216T075316Z
LAST-MODIFIED:20190216T075316Z
UID:1113-1550340000-1550343600@jesusnazarenoubeda.es
SUMMARY:MISA JÓVEN ÚBEDA
DESCRIPTION:MISA JÓVEN\nSábado 16 de febrero de 2019 \nCapilla Colegio La Milagrosa\, 18 horas
URL:http://jesusnazarenoubeda.es/event/misa-joven-ubeda-2/
LOCATION:Capilla colegio La Milagrosa\, Úbeda\, Jaén\, 23400
CATEGORIES:Cofradía,Misas
ATTACH;FMTTYPE=image/jpeg:http://jesusnazarenoubeda.es/wp-content/uploads/2019/02/684175c0-281c-4a56-b810-19fbfc24e861.jpg
END:VEVENT
BEGIN:VEVENT
DTSTART;TZID=UTC:20190208T210000
DTEND;TZID=UTC:20190208T230000
DTSTAMP:20260421T113716
CREATED:20190131T090151Z
LAST-MODIFIED:20190131T090151Z
UID:1093-1549659600-1549666800@jesusnazarenoubeda.es
SUMMARY:OBRA DE TEATRO "VIOLINES Y TROMPETAS"
DESCRIPTION:OBRA DE TEATRO «VIOLINES Y TROMPETAS»\nViernes 8 de febrero a las 21 horas \nTeatro Ideal Cinema
URL:http://jesusnazarenoubeda.es/event/obra-de-teatro-violines-y-trompetas/
LOCATION:Teatro Ideal Cinema\, Úbeda\, C/ Real\, Úbeda\, Jaén\, 23400
CATEGORIES:Solidaridad
ATTACH;FMTTYPE=image/jpeg:http://jesusnazarenoubeda.es/wp-content/uploads/2019/01/12d243e0-63b4-4565-bb30-4099ed1a86dd.jpg
END:VEVENT
BEGIN:VEVENT
DTSTART;TZID=UTC:20190203T120000
DTEND;TZID=UTC:20190203T133000
DTSTAMP:20260421T113716
CREATED:20190129T074725Z
LAST-MODIFIED:20190129T075143Z
UID:1078-1549195200-1549200600@jesusnazarenoubeda.es
SUMMARY:CHARLA DE FORMACIÓN
DESCRIPTION:CHARLA DE FORMACIÓN\nDomingo 3 de febrero a las 12 horas \nCasa de Jesús
URL:http://jesusnazarenoubeda.es/event/charla-de-formacion/
LOCATION:Casa de Jesús\, C/ Compañía\, Úbeda\, Jaén\, 23400\, Spain
CATEGORIES:Conferencia
ATTACH;FMTTYPE=image/jpeg:http://jesusnazarenoubeda.es/wp-content/uploads/2019/01/a8740ee6-1774-4349-a78b-fbc23d329ef8.jpg
END:VEVENT
BEGIN:VEVENT
DTSTART;TZID=UTC:20190202T190000
DTEND;TZID=UTC:20190202T200000
DTSTAMP:20260421T113716
CREATED:20190129T075353Z
LAST-MODIFIED:20190129T075353Z
UID:1084-1549134000-1549137600@jesusnazarenoubeda.es
SUMMARY:MISA DE ESTATUTOS DEL MES DE ENERO
DESCRIPTION:MISA DE ESTATUTOS\nSábado 2 de febrero de 2019 a las 19 horas \nCapilla Jesús Nazareno
URL:http://jesusnazarenoubeda.es/event/misa-de-estatutos-del-mes-de-enero/
LOCATION:Basílica Menor Santa María Reales Alcázares\, Plaza Vázquez de Molina\, Úbeda\, Jaén\, 23400\, Spain
CATEGORIES:Misas
ATTACH;FMTTYPE=image/jpeg:http://jesusnazarenoubeda.es/wp-content/uploads/2019/01/misa-estatutos-febrero-web.jpg
END:VEVENT
BEGIN:VEVENT
DTSTART;TZID=UTC:20190202T173000
DTEND;TZID=UTC:20190202T183000
DTSTAMP:20260421T113716
CREATED:20190129T075109Z
LAST-MODIFIED:20190129T075109Z
UID:1081-1549128600-1549132200@jesusnazarenoubeda.es
SUMMARY:ASAMBLEA GENERAL ORDINARIA
DESCRIPTION:ASAMBLEA GENERAL ORDINARIA\nSábado 2 de febrero a las 17:30 horas \nCasa de la Iglesia
URL:http://jesusnazarenoubeda.es/event/asamblea-general-ordinaria/
LOCATION:Casa de la Iglesia\, Úbeda\, 23400
CATEGORIES:Cofradía
ATTACH;FMTTYPE=image/jpeg:http://jesusnazarenoubeda.es/wp-content/uploads/2018/04/DSC_3100-WEB.jpg
END:VEVENT
BEGIN:VEVENT
DTSTART;TZID=UTC:20190120T113000
DTEND;TZID=UTC:20190120T133000
DTSTAMP:20260421T113716
CREATED:20190111T113642Z
LAST-MODIFIED:20190111T113642Z
UID:1070-1547983800-1547991000@jesusnazarenoubeda.es
SUMMARY:FIESTA PRINCIPAL EN HONOR A NTRO. PADRE JESÚS NAZARENO
DESCRIPTION:FIESTA PRINCIPAL EN HONOR A NTRO. PADRE JESÚS NAZARENO\nDomingo 20 de enero a las 11:30 horas \nBasílica Santa María
URL:http://jesusnazarenoubeda.es/event/fiesta-principal-en-honor-a-ntro-padre-jesus-nazareno/
LOCATION:Basílica Menor Santa María Reales Alcázares\, Plaza Vázquez de Molina\, Úbeda\, Jaén\, 23400\, Spain
CATEGORIES:Fiesta Principal
ATTACH;FMTTYPE=image/png:http://jesusnazarenoubeda.es/wp-content/uploads/2019/01/IMG_0199-1.png
END:VEVENT
BEGIN:VEVENT
DTSTART;TZID=UTC:20190111T183000
DTEND;TZID=UTC:20190119T200000
DTSTAMP:20260421T113716
CREATED:20190111T113247Z
LAST-MODIFIED:20190111T113247Z
UID:1067-1547231400-1547928000@jesusnazarenoubeda.es
SUMMARY:NOVENA EN HONOR A NTRO. PADRE JESÚS NAZARENO
DESCRIPTION:NOVENA EN HONOR A NTRO. PADRE JESÚS NAZARENO\nDel 11 al 19 de enero de 2018 \nBasílica Santa María 18:30 horas
URL:http://jesusnazarenoubeda.es/event/novena-en-honor-a-ntro-padre-jesus-nazareno/
LOCATION:Basílica Menor Santa María Reales Alcázares\, Plaza Vázquez de Molina\, Úbeda\, Jaén\, 23400\, Spain
CATEGORIES:Novena
ATTACH;FMTTYPE=image/png:http://jesusnazarenoubeda.es/wp-content/uploads/2019/01/IMG_0199-1.png
END:VEVENT
BEGIN:VEVENT
DTSTART;TZID=UTC:20190105T190000
DTEND;TZID=UTC:20190105T200000
DTSTAMP:20260421T113716
CREATED:20181213T101513Z
LAST-MODIFIED:20181213T101513Z
UID:1038-1546714800-1546718400@jesusnazarenoubeda.es
SUMMARY:MISA DE ESTATUTOS ENERO 2019
DESCRIPTION:MISA DE ESTATUTOS ENERO 2019\nSábado 5 de enero de 2019 a las 19 horas \nCapilla Nuestro padre Jesús Nazareno
URL:http://jesusnazarenoubeda.es/event/misa-de-estatutos-enero-2019/
LOCATION:Basílica Menor Santa María Reales Alcázares\, Plaza Vázquez de Molina\, Úbeda\, Jaén\, 23400\, Spain
CATEGORIES:Misas
ATTACH;FMTTYPE=image/jpeg:http://jesusnazarenoubeda.es/wp-content/uploads/2018/12/misa-estatutos-enero-2019-web.jpg
END:VEVENT
BEGIN:VEVENT
DTSTART;TZID=UTC:20181227T190000
DTEND;TZID=UTC:20181227T200000
DTSTAMP:20260421T113716
CREATED:20181223T102227Z
LAST-MODIFIED:20181223T102227Z
UID:1048-1545937200-1545940800@jesusnazarenoubeda.es
SUMMARY:FIESTA DE SAN JUAN EVANGELISTA
DESCRIPTION:FIESTA DE SAN JUAN EVANGELISTA\nJueves 27 de diciembre a las 19 horas \nBasílica Santa María
URL:http://jesusnazarenoubeda.es/event/fiesta-de-san-juan-evangelista/
LOCATION:Basílica Menor Santa María Reales Alcázares\, Plaza Vázquez de Molina\, Úbeda\, Jaén\, 23400\, Spain
CATEGORIES:Cofradía,Misas
ATTACH;FMTTYPE=image/jpeg:http://jesusnazarenoubeda.es/wp-content/uploads/2018/12/CARTEL-FIESTA-san-juan-evangelista-web.jpg
END:VEVENT
BEGIN:VEVENT
DTSTART;TZID=UTC:20181227T190000
DTEND;TZID=UTC:20181227T200000
DTSTAMP:20260421T113716
CREATED:20181213T102143Z
LAST-MODIFIED:20181213T102143Z
UID:1041-1545937200-1545940800@jesusnazarenoubeda.es
SUMMARY:FIESTA EN HONOR A SAN JUAN
DESCRIPTION:FIESTA EN HONOR A SAN JUAN\nJueves 27 de diciembre de 2018\, 19 horas \nBasílica Santa María de los Reales Alcázares
URL:http://jesusnazarenoubeda.es/event/fiesta-en-honor-a-san-juan/
LOCATION:Basílica Menor Santa María Reales Alcázares\, Plaza Vázquez de Molina\, Úbeda\, Jaén\, 23400\, Spain
CATEGORIES:Misas
ATTACH;FMTTYPE=image/jpeg:http://jesusnazarenoubeda.es/wp-content/uploads/2018/12/DSC_1651.jpg
END:VEVENT
BEGIN:VEVENT
DTSTART;TZID=UTC:20181226T180000
DTEND;TZID=UTC:20181226T200000
DTSTAMP:20260421T113716
CREATED:20181213T101045Z
LAST-MODIFIED:20181213T101045Z
UID:1034-1545847200-1545854400@jesusnazarenoubeda.es
SUMMARY:VISITA A LOS BELENES DE LA CIUDAD
DESCRIPTION:VISITA A LOS BELENES DE LA CIUDAD\nMiércoles 26 de diciembre 18 horas \nSanto Domingo
URL:http://jesusnazarenoubeda.es/event/visita-a-los-belenes-de-la-ciudad/
LOCATION:Santo Domingo\, Úbeda
CATEGORIES:Cofradía
ATTACH;FMTTYPE=image/jpeg:http://jesusnazarenoubeda.es/wp-content/uploads/2018/12/JVZC0102.jpg
END:VEVENT
BEGIN:VEVENT
DTSTART;TZID=UTC:20181222T180000
DTEND;TZID=UTC:20181222T200000
DTSTAMP:20260421T113716
CREATED:20181213T100720Z
LAST-MODIFIED:20181213T100720Z
UID:1030-1545501600-1545508800@jesusnazarenoubeda.es
SUMMARY:MISA JOVEN "LUZ DE BELÉN"
DESCRIPTION:MISA JOVEN «LUZ DE BELÉN»\n22 de diciembre de 2018 \n18 horas salida Via Crucis Safa \n18:30 horas Misa en Casa de la Iglesia
URL:http://jesusnazarenoubeda.es/event/misa-joven-luz-de-belen/
LOCATION:Safa y Casa de la Iglesia\, Úbeda\, 23400
CATEGORIES:Misas
ATTACH;FMTTYPE=image/jpeg:http://jesusnazarenoubeda.es/wp-content/uploads/2018/12/59f24c40-7497-4d89-8dea-91168b0b9688.jpg
END:VEVENT
BEGIN:VEVENT
DTSTART;TZID=UTC:20181221T203000
DTEND;TZID=UTC:20181221T213000
DTSTAMP:20260421T113716
CREATED:20181213T094939Z
LAST-MODIFIED:20181213T095511Z
UID:1024-1545424200-1545427800@jesusnazarenoubeda.es
SUMMARY:INAUGURACIÓN BELÉN DE LA COFRADÍA
DESCRIPTION:INAUGURACIÓN DEL BELÉN DE LA COFRADÍA Y JORNADA DE CONVIVENCIA\n21 de diciembre de 2018 \n20:30 horas Casa de Jesús
URL:http://jesusnazarenoubeda.es/event/inauguracion-belen-de-la-cofradia/
LOCATION:Casa de Jesús\, C/ Compañía\, Úbeda\, Jaén\, 23400\, Spain
CATEGORIES:Cofradía
ATTACH;FMTTYPE=image/jpeg:http://jesusnazarenoubeda.es/wp-content/uploads/2018/12/inaugración-belén-web.jpg
END:VEVENT
BEGIN:VEVENT
DTSTART;TZID=UTC:20181221T183000
DTEND;TZID=UTC:20190104T210000
DTSTAMP:20260421T113716
CREATED:20181213T100147Z
LAST-MODIFIED:20181213T100147Z
UID:1027-1545417000-1546635600@jesusnazarenoubeda.es
SUMMARY:VISITA AL BELÉN EN NAVIDAD
DESCRIPTION:VISITA AL BELÉN EN NAVIDAD\nDel 21 de diciembre hasta el 4 de enero (excepto 24 y 31) \n18:30 a 21 horas
URL:http://jesusnazarenoubeda.es/event/visita-al-belen-en-navidad/
LOCATION:Casa de Jesús\, C/ Compañía\, Úbeda\, Jaén\, 23400\, Spain
CATEGORIES:Cofradía
ATTACH;FMTTYPE=image/jpeg:http://jesusnazarenoubeda.es/wp-content/uploads/2018/12/visita-belén.jpg
END:VEVENT
END:VCALENDAR