BEGIN:VCALENDAR
VERSION:2.0
PRODID:-//Jesús Nazareno - ECPv6.1.3//NONSGML v1.0//EN
CALSCALE:GREGORIAN
METHOD:PUBLISH
X-WR-CALNAME:Jesús Nazareno
X-ORIGINAL-URL:http://jesusnazarenoubeda.es
X-WR-CALDESC:Eventos para Jesús Nazareno
REFRESH-INTERVAL;VALUE=DURATION:PT1H
X-Robots-Tag:noindex
X-PUBLISHED-TTL:PT1H
BEGIN:VTIMEZONE
TZID:UTC
BEGIN:STANDARD
TZOFFSETFROM:+0000
TZOFFSETTO:+0000
TZNAME:UTC
DTSTART:20190101T000000
END:STANDARD
END:VTIMEZONE
BEGIN:VEVENT
DTSTART;TZID=UTC:20190607T200000
DTEND;TZID=UTC:20190607T220000
DTSTAMP:20260422T092004
CREATED:20190605T073116Z
LAST-MODIFIED:20190605T073116Z
UID:1386-1559937600-1559944800@jesusnazarenoubeda.es
SUMMARY:CHARLA DE PEDRO MARIANO HERRADOR
DESCRIPTION:CHARLA DE PEDRO MARIANO HERRADOR\nViernes 7 de junio de 2019 \nCasa de Jesús 20:15 horas
URL:http://jesusnazarenoubeda.es/event/charla-de-pedro-mariano-herrador/
LOCATION:Casa de Jesús\, C/ Compañía\, Úbeda\, Jaén\, 23400\, Spain
CATEGORIES:Cofradía,Conferencia,Convivencia
ATTACH;FMTTYPE=image/jpeg:http://jesusnazarenoubeda.es/wp-content/uploads/2019/06/conferencia-07-06-19-web.jpg
END:VEVENT
END:VCALENDAR