BEGIN:VCALENDAR
VERSION:2.0
PRODID:-//Jesús Nazareno - ECPv6.1.3//NONSGML v1.0//EN
CALSCALE:GREGORIAN
METHOD:PUBLISH
X-ORIGINAL-URL:http://jesusnazarenoubeda.es
X-WR-CALDESC:Eventos para Jesús Nazareno
REFRESH-INTERVAL;VALUE=DURATION:PT1H
X-Robots-Tag:noindex
X-PUBLISHED-TTL:PT1H
BEGIN:VTIMEZONE
TZID:UTC
BEGIN:STANDARD
TZOFFSETFROM:+0000
TZOFFSETTO:+0000
TZNAME:UTC
DTSTART:20190101T000000
END:STANDARD
END:VTIMEZONE
BEGIN:VEVENT
DTSTART;TZID=UTC:20190224T100000
DTEND;TZID=UTC:20190224T140000
DTSTAMP:20260424T134043
CREATED:20190220T100122Z
LAST-MODIFIED:20190220T100223Z
UID:1128-1551002400-1551016800@jesusnazarenoubeda.es
SUMMARY:"IGUALÁ" DE COSTALEROS
DESCRIPTION:«IGUALÁ» DE COSTALEROS\nDomingo 24 de febrero de 2019 \nCasa de Jesús de 10 a 14 horas
URL:http://jesusnazarenoubeda.es/event/iguala-de-costaleros/
LOCATION:Casa de Jesús\, C/ Compañía\, Úbeda\, Jaén\, 23400\, Spain
CATEGORIES:Cofradía,Convivencia,Costaleros
ATTACH;FMTTYPE=image/jpeg:http://jesusnazarenoubeda.es/wp-content/uploads/2019/02/52354537_1922797727817834_8100565876559839232_n.jpg
END:VEVENT
END:VCALENDAR