BEGIN:VCALENDAR
VERSION:2.0
PRODID:-//Jesús Nazareno - ECPv6.1.3//NONSGML v1.0//EN
CALSCALE:GREGORIAN
METHOD:PUBLISH
X-WR-CALNAME:Jesús Nazareno
X-ORIGINAL-URL:http://jesusnazarenoubeda.es
X-WR-CALDESC:Eventos para Jesús Nazareno
REFRESH-INTERVAL;VALUE=DURATION:PT1H
X-Robots-Tag:noindex
X-PUBLISHED-TTL:PT1H
BEGIN:VTIMEZONE
TZID:UTC
BEGIN:STANDARD
TZOFFSETFROM:+0000
TZOFFSETTO:+0000
TZNAME:UTC
DTSTART:20190101T000000
END:STANDARD
END:VTIMEZONE
BEGIN:VEVENT
DTSTART;TZID=UTC:20190218T210000
DTEND;TZID=UTC:20190218T220000
DTSTAMP:20260424T133905
CREATED:20190212T121410Z
LAST-MODIFIED:20190212T121410Z
UID:1111-1550523600-1550527200@jesusnazarenoubeda.es
SUMMARY:CENA DEL HAMBRE EN SANTO DOMINGO
DESCRIPTION:CENA DEL HAMBRE\nLunes 18 de febrero de 2019 a las 21 horas \nIglesia de Santo Domingo
URL:http://jesusnazarenoubeda.es/event/cena-del-hambre-en-santo-domingo/
LOCATION:Iglesia de Santo Domingo\, Úbeda\, 23400
CATEGORIES:Cofradía,Convivencia,Solidaridad
ATTACH;FMTTYPE=image/jpeg:http://jesusnazarenoubeda.es/wp-content/uploads/2019/02/51747353_1966113923684936_9076404084256276480_n.jpg
END:VEVENT
END:VCALENDAR