BEGIN:VCALENDAR
VERSION:2.0
PRODID:-//Jesús Nazareno - ECPv6.1.3//NONSGML v1.0//EN
CALSCALE:GREGORIAN
METHOD:PUBLISH
X-WR-CALNAME:Jesús Nazareno
X-ORIGINAL-URL:http://jesusnazarenoubeda.es
X-WR-CALDESC:Eventos para Jesús Nazareno
REFRESH-INTERVAL;VALUE=DURATION:PT1H
X-Robots-Tag:noindex
X-PUBLISHED-TTL:PT1H
BEGIN:VTIMEZONE
TZID:UTC
BEGIN:STANDARD
TZOFFSETFROM:+0000
TZOFFSETTO:+0000
TZNAME:UTC
DTSTART:20190101T000000
END:STANDARD
END:VTIMEZONE
BEGIN:VEVENT
DTSTART;TZID=UTC:20190510T080000
DTEND;TZID=UTC:20190512T170000
DTSTAMP:20260422T091712
CREATED:20190506T115158Z
LAST-MODIFIED:20190506T115420Z
UID:1316-1557475200-1557680400@jesusnazarenoubeda.es
SUMMARY:CRUZ DE MAYO
DESCRIPTION:CRUZ DE MAYO\nLocal de Tronos \n10\, 11 y 12 de mayo de 2019 \n 
URL:http://jesusnazarenoubeda.es/event/cruz-de-mayo/
LOCATION:Local de Tronos\, Plaza del Ayuntamiento\, Úbeda\, 23400
CATEGORIES:Cofradía,Convivencia
ATTACH;FMTTYPE=image/jpeg:http://jesusnazarenoubeda.es/wp-content/uploads/2019/05/223953f6-74ba-4efb-a9e4-2868da2fb29d.jpg
END:VEVENT
END:VCALENDAR